BEGIN:VCALENDAR
VERSION:2.0
PRODID:-//Entraide Marine-Adosm - ECPv6.15.20//NONSGML v1.0//EN
CALSCALE:GREGORIAN
METHOD:PUBLISH
X-WR-CALNAME:Entraide Marine-Adosm
X-ORIGINAL-URL:https://www.entraidemarine.org
X-WR-CALDESC:Évènements pour Entraide Marine-Adosm
REFRESH-INTERVAL;VALUE=DURATION:PT1H
X-Robots-Tag:noindex
X-PUBLISHED-TTL:PT1H
BEGIN:VTIMEZONE
TZID:Europe/Helsinki
BEGIN:DAYLIGHT
TZOFFSETFROM:+0200
TZOFFSETTO:+0300
TZNAME:EEST
DTSTART:20160327T010000
END:DAYLIGHT
BEGIN:STANDARD
TZOFFSETFROM:+0300
TZOFFSETTO:+0200
TZNAME:EET
DTSTART:20161030T010000
END:STANDARD
BEGIN:DAYLIGHT
TZOFFSETFROM:+0200
TZOFFSETTO:+0300
TZNAME:EEST
DTSTART:20170326T010000
END:DAYLIGHT
BEGIN:STANDARD
TZOFFSETFROM:+0300
TZOFFSETTO:+0200
TZNAME:EET
DTSTART:20171029T010000
END:STANDARD
BEGIN:DAYLIGHT
TZOFFSETFROM:+0200
TZOFFSETTO:+0300
TZNAME:EEST
DTSTART:20180325T010000
END:DAYLIGHT
BEGIN:STANDARD
TZOFFSETFROM:+0300
TZOFFSETTO:+0200
TZNAME:EET
DTSTART:20181028T010000
END:STANDARD
END:VTIMEZONE
BEGIN:VTIMEZONE
TZID:Europe/Paris
BEGIN:DAYLIGHT
TZOFFSETFROM:+0100
TZOFFSETTO:+0200
TZNAME:CEST
DTSTART:20150329T010000
END:DAYLIGHT
BEGIN:STANDARD
TZOFFSETFROM:+0200
TZOFFSETTO:+0100
TZNAME:CET
DTSTART:20151025T010000
END:STANDARD
BEGIN:DAYLIGHT
TZOFFSETFROM:+0100
TZOFFSETTO:+0200
TZNAME:CEST
DTSTART:20160327T010000
END:DAYLIGHT
BEGIN:STANDARD
TZOFFSETFROM:+0200
TZOFFSETTO:+0100
TZNAME:CET
DTSTART:20161030T010000
END:STANDARD
BEGIN:DAYLIGHT
TZOFFSETFROM:+0100
TZOFFSETTO:+0200
TZNAME:CEST
DTSTART:20170326T010000
END:DAYLIGHT
BEGIN:STANDARD
TZOFFSETFROM:+0200
TZOFFSETTO:+0100
TZNAME:CET
DTSTART:20171029T010000
END:STANDARD
END:VTIMEZONE
BEGIN:VEVENT
DTSTART;VALUE=DATE:20170519
DTEND;VALUE=DATE:20170521
DTSTAMP:20260420T124708
CREATED:20170321T113732Z
LAST-MODIFIED:20170419T125917Z
UID:4587-1495152000-1495324799@www.entraidemarine.org
SUMMARY:Brest - journées d'entraide de printemps 19/20 mai
DESCRIPTION:Comme chaque année\, une vente ADOSM se déroulera les 19 et 20 mai prochain salle surcouf\, 13 rue Yves Collet\, de 9h à 19h.
URL:https://www.entraidemarine.org/event/brest-journees-dentraide-de-printemps-1920-mai/
LOCATION:Brest – Cercle Surcouf\, 13 rue Yves Collet\, Brest\, 29200\, France
CATEGORIES:Brest
ATTACH;FMTTYPE=image/jpeg:https://www.entraidemarine.org/wp-content/uploads/2017/03/invitbrest-mai-17.jpg
ORGANIZER;CN="ADOSM Brest":MAILTO:adosm.brest@gmail.com
END:VEVENT
BEGIN:VEVENT
DTSTART;TZID=Europe/Paris:20160217T080000
DTEND;TZID=Europe/Paris:20160217T170000
DTSTAMP:20260420T124708
CREATED:20160217T123043Z
LAST-MODIFIED:20160217T125431Z
UID:3585-1455696000-1455728400@www.entraidemarine.org
SUMMARY:Tournoi de bridge simultané Marine
DESCRIPTION:Un tournoi de bridge « Simultané Marine » est organisé conjointement par l’AEN et l’ADOSM chaque année vers la fin du premier trimestre. \nCe tournoi est homologué par la Fédération Française de Bridge et à ce titre doté de points d’experts décernés aux meilleurs joueurs en fonction de leurs résultats. \nEn 2016\, il aura lieu le jeudi 17 mars  à Brest\, Bordeaux\, Lorient\, Nantes\, Lyon\, Toulon\, Marseille et Paris. \nPour y participer\, inscrivez vous dans chaque port auprès des responsables locaux dont vous trouverez les coordonnées en cliquant sur le lien ci-dessous : \nSimultané Marine 2016 (PDF) \nSimultané marine 2016
URL:https://www.entraidemarine.org/event/tournoi-de-bridge-simultane-marine/
CATEGORIES:Bordeaux,Brest,Lorient,Lyon,Marseille,Nantes,Paris,Toulon
ATTACH;FMTTYPE=image/jpeg:https://www.entraidemarine.org/wp-content/uploads/2016/02/Bridge-cartes.jpg
ORGANIZER;CN="ADOSM Paris":MAILTO:adosmparis@gmail.com
END:VEVENT
END:VCALENDAR