BEGIN:VCALENDAR
VERSION:2.0
PRODID:-//Entraide Marine-Adosm - ECPv6.15.20//NONSGML v1.0//EN
CALSCALE:GREGORIAN
METHOD:PUBLISH
X-WR-CALNAME:Entraide Marine-Adosm
X-ORIGINAL-URL:https://www.entraidemarine.org
X-WR-CALDESC:Évènements pour Entraide Marine-Adosm
REFRESH-INTERVAL;VALUE=DURATION:PT1H
X-Robots-Tag:noindex
X-PUBLISHED-TTL:PT1H
BEGIN:VTIMEZONE
TZID:Europe/Helsinki
BEGIN:DAYLIGHT
TZOFFSETFROM:+0200
TZOFFSETTO:+0300
TZNAME:EEST
DTSTART:20250330T010000
END:DAYLIGHT
BEGIN:STANDARD
TZOFFSETFROM:+0300
TZOFFSETTO:+0200
TZNAME:EET
DTSTART:20251026T010000
END:STANDARD
BEGIN:DAYLIGHT
TZOFFSETFROM:+0200
TZOFFSETTO:+0300
TZNAME:EEST
DTSTART:20260329T010000
END:DAYLIGHT
BEGIN:STANDARD
TZOFFSETFROM:+0300
TZOFFSETTO:+0200
TZNAME:EET
DTSTART:20261025T010000
END:STANDARD
BEGIN:DAYLIGHT
TZOFFSETFROM:+0200
TZOFFSETTO:+0300
TZNAME:EEST
DTSTART:20270328T010000
END:DAYLIGHT
BEGIN:STANDARD
TZOFFSETFROM:+0300
TZOFFSETTO:+0200
TZNAME:EET
DTSTART:20271031T010000
END:STANDARD
END:VTIMEZONE
BEGIN:VEVENT
DTSTART;VALUE=DATE:20260529
DTEND;VALUE=DATE:20260531
DTSTAMP:20260423T144134
CREATED:20260421T151359Z
LAST-MODIFIED:20260421T151400Z
UID:14226-1780012800-1780185599@www.entraidemarine.org
SUMMARY:Journée d'Entraide de Printemps à Brest : 29 et 30 mai 2026
DESCRIPTION:Venez faire des achats solidaires au profit de l’Entraide Marine : décoration\, livres\, brocante\, vêtements adultes et enfants\, bijoux\, restauration rapide\,… \n Brest – Salle Surcouf\n13 rue Yves Collet\, 29200 Brest \n\nVendredi 29 mai : 9h – 19h\nSamedi 30 mai : 10h – 17h
URL:https://www.entraidemarine.org/event/journee-dentraide-de-printemps-a-brest-29-et-30-mai-2026/
LOCATION:Salle Surcouf\, 13 rue Yves Collet\, BREST\, 29200\, France
END:VEVENT
BEGIN:VEVENT
DTSTART;TZID=Europe/Helsinki:20260606T100000
DTEND;TZID=Europe/Helsinki:20260606T180000
DTSTAMP:20260423T144134
CREATED:20260421T151709Z
LAST-MODIFIED:20260421T151709Z
UID:14230-1780740000-1780768800@www.entraidemarine.org
SUMMARY:Journée d’Entraide de Printemps à Toulon : 6 juin 2026
DESCRIPTION:Venez faire des achats solidaires au profit de l’Entraide Marine : décoration\, livres\, brocante\, vêtements adultes et enfants\, bijoux\, restauration rapide\,… \n Toulon\n449 avenue de La Mitre\, 83000 Toulon \n\nSamedi 6 juin : 10h – 18h
URL:https://www.entraidemarine.org/event/journee-dentraide-de-printemps-a-toulon-6-juin-2026/
LOCATION:La Mitre\, 449 avenue de la Mitre\, Toulon\, 83000\, France
CATEGORIES:Toulon
ATTACH;FMTTYPE=image/png:https://www.entraidemarine.org/wp-content/uploads/2026/04/affiche-JE-toulon.png
END:VEVENT
END:VCALENDAR